Workbook

Sheet PAANO GAMITIN
B4: SALES TALLY WHOLE DAY
B18: Nakabilog ng Pula - Heto lang po ang lalagyan ninyo kaya po dapat lahat ng item nyo may code.
B19: Dito nyo rin ilalagay kung ilan ang nabili automatic na po sya na kukuha ng impormasyon sa inyong listahan
B20: Nasa dilaw- meron po itong formula na naka link po sa pahina ITEMS kung saan po naka automatic na po na lalabas kung magkano ang tubo ninyo
B32: Code - Ay kung ano po ang icocode nyo per produkto, maari ninyong gayahin ang aking ginawa o gumawa ng kakaiba
B33: Products - Eto po ay manual nyong ilalagay isaisa katapat ng tamang produkto
B34: Puhunan New- heto po yung bagong puhunan ng produkto
B35: Puhunan Old- heto po yung lumang puhunan ng produkto
B36: Puhunan - Mamimili sya alin ang mas mahal sa dalawa kung New ba or Old
B37: %Tubo - pde nyo rin I manipula po ito pde nyo taasan at pde nyo rin babaan.
B38: TUBo - yan po tlaga ang computation nung % tubo sa puhunan
B39: SRP - Yan yung dapat sundan na presyo ayon sa porsyentong inalagay mo nung una
... B43: New Mark Up - yan na po yung TUBO tlaga (magadjust ka man o hindi)

Sheet POS
C3: CODE | D3: QTY | E3: Product | F3: PRICE | G3: SOLD | H3: TUBO | I3: SALES ALL | J3: TUBO ALL
C4: A001 | D4: 2 | E4: =IFERROR(VLOOKUP(C4, ITEMS!A:Z, 2, FALSE), "") -> Mt. Dew plastic small 12s | F4: =IFERROR(VLOOKUP(C4, ITEMS!A:Z, 11, FALSE), "") -> 16 | G4: =IFERROR(D4*F4,"") -> 32 | H4: =IFERROR((VLOOKUP(C4, ITEMS!A:Z, 12, FALSE)*D4), "") -> 6 | I4: =SUM(G:G) -> 83 | J4: =SUM(H:H) -> 15
C5: A002 | D5: 3 | E5: =IFERROR(VLOOKUP(C5, ITEMS!A:Z, 2, FALSE), "") -> Sprite mismo | F5: =IFERROR(VLOOKUP(C5, ITEMS!A:Z, 11, FALSE), "") -> 17 | G5: =IFERROR(D5*F5,"") -> 51 | H5: =IFERROR((VLOOKUP(C5, ITEMS!A:Z, 12, FALSE)*D5), "") -> 9
E6: =IFERROR(VLOOKUP(C6, ITEMS!A:Z, 2, FALSE), "") | F6: =IFERROR(VLOOKUP(C6, ITEMS!A:Z, 11, FALSE), "") | G6: =IFERROR(D6*F6,"") | H6: =IFERROR((VLOOKUP(C6, ITEMS!A:Z, 12, FALSE)*D6), "")
E7: =IFERROR(VLOOKUP(C7, ITEMS!A:Z, 2, FALSE), "") | F7: =IFERROR(VLOOKUP(C7, ITEMS!A:Z, 11, FALSE), "") | G7: =IFERROR(D7*F7,"") | H7: =IFERROR((VLOOKUP(C7, ITEMS!A:Z, 12, FALSE)*D7), "")
E8: =IFERROR(VLOOKUP(C8, ITEMS!A:Z, 2, FALSE), "") | F8: =IFERROR(VLOOKUP(C8, ITEMS!A:Z, 11, FALSE), "") | G8: =IFERROR(D8*F8,"") | H8: =IFERROR((VLOOKUP(C8, ITEMS!A:Z, 12, FALSE)*D8), "")
E9: =IFERROR(VLOOKUP(C9, ITEMS!A:Z, 2, FALSE), "") | F9: =IFERROR(VLOOKUP(C9, ITEMS!A:Z, 11, FALSE), "") | G9: =IFERROR(D9*F9,"") | H9: =IFERROR((VLOOKUP(C9, ITEMS!A:Z, 12, FALSE)*D9), "")
E10: =IFERROR(VLOOKUP(C10, ITEMS!A:Z, 2, FALSE), "") | F10: =IFERROR(VLOOKUP(C10, ITEMS!A:Z, 11, FALSE), "") | G10: =IFERROR(D10*F10,"") | H10: =IFERROR((VLOOKUP(C10, ITEMS!A:Z, 12, FALSE)*D10), "")
E11: =IFERROR(VLOOKUP(C11, ITEMS!A:Z, 2, FALSE), "") | F11: =IFERROR(VLOOKUP(C11, ITEMS!A:Z, 11, FALSE), "") | G11: =IFERROR(D11*F11,"") | H11: =IFERROR((VLOOKUP(C11, ITEMS!A:Z, 12, FALSE)*D11), "")
E12: =IFERROR(VLOOKUP(C12, ITEMS!A:Z, 2, FALSE), "") | F12: =IFERROR(VLOOKUP(C12, ITEMS!A:Z, 11, FALSE), "") | G12: =IFERROR(D12*F12,"") | H12: =IFERROR((VLOOKUP(C12, ITEMS!A:Z, 12, FALSE)*D12), "")
E13: =IFERROR(VLOOKUP(C13, ITEMS!A:Z, 2, FALSE), "") | F13: =IFERROR(VLOOKUP(C13, ITEMS!A:Z, 11, FALSE), "") | G13: =IFERROR(D13*F13,"") | H13: =IFERROR((VLOOKUP(C13, ITEMS!A:Z, 12, FALSE)*D13), "")
E14: =IFERROR(VLOOKUP(C14, ITEMS!A:Z, 2, FALSE), "") | F14: =IFERROR(VLOOKUP(C14, ITEMS!A:Z, 11, FALSE), "") | G14: =IFERROR(D14*F14,"") | H14: =IFERROR((VLOOKUP(C14, ITEMS!A:Z, 12, FALSE)*D14), "")
E15: =IFERROR(VLOOKUP(C15, ITEMS!A:Z, 2, FALSE), "") | F15: =IFERROR(VLOOKUP(C15, ITEMS!A:Z, 11, FALSE), "") | G15: =IFERROR(D15*F15,"") | H15: =IFERROR((VLOOKUP(C15, ITEMS!A:Z, 12, FALSE)*D15), "")
E16: =IFERROR(VLOOKUP(C16, ITEMS!A:Z, 2, FALSE), "") | F16: =IFERROR(VLOOKUP(C16, ITEMS!A:Z, 11, FALSE), "") | G16: =IFERROR(D16*F16,"") | H16: =IFERROR((VLOOKUP(C16, ITEMS!A:Z, 12, FALSE)*D16), "")
E17: =IFERROR(VLOOKUP(C17, ITEMS!A:Z, 2, FALSE), "") | F17: =IFERROR(VLOOKUP(C17, ITEMS!A:Z, 11, FALSE), "") | G17: =IFERROR(D17*F17,"") | H17: =IFERROR((VLOOKUP(C17, ITEMS!A:Z, 12, FALSE)*D17), "")
... E30: =IFERROR(VLOOKUP(C30, ITEMS!A:Z, 2, FALSE), "") | F30: =IFERROR(VLOOKUP(C30, ITEMS!A:Z, 11, FALSE), "") | G30: =IFERROR(D30*F30,"") | H30: =IFERROR((VLOOKUP(C30, ITEMS!A:Z, 12, FALSE)*D30), "")

Sheet ITEMS
A1: CODE | B1: Products | C1: Puhunan New | D1: Puhunan Old | E1: Puhunan | F1: %TUBO | G1: TUBO | H1: SRP | I1: SRP NEW | J1: ADJUST SRP | K1: SRPADJ | L1: NEW Mark Up
A2: A001 | B2: Mt. Dew plastic small 12s | C2: 13 | D2: 12 | E2: =IF(C2>D2, C2, D2) -> 13 | F2: 0.2 | G2: =E2*F2 -> 2.6 | H2: =E2+G2 -> 15.6 | I2: =ROUNDUP(H2,0) -> 16 | K2: =IF(J2=0, I2, J2) -> 16 | L2: =K2-E2 -> 3
A3: A002 | B3: Sprite mismo | C3: 14 | D3: 13 | E3: =IF(C3>D3, C3, D3) -> 14 | F3: 0.2 | G3: =E3*F3 -> 2.8 | H3: =E3+G3 -> 16.8 | I3: =ROUNDUP(H3,0) -> 17 | K3: =IF(J3=0, I3, J3) -> 17 | L3: =K3-E3 -> 3
A4: A003 | B4: Royal | C4: 14 | D4: 13 | E4: =IF(C4>D4, C4, D4) -> 14 | F4: 0.2 | G4: =E4*F4 -> 2.8 | H4: =E4+G4 -> 16.8 | I4: =ROUNDUP(H4,0) -> 17 | K4: =IF(J4=0, I4, J4) -> 17 | L4: =K4-E4 -> 3
A5: A004 | B5: Coke swakto | C5: 12 | D5: 13 | E5: =IF(C5>D5, C5, D5) -> 13 | F5: 0.2 | G5: =E5*F5 -> 2.6 | H5: =E5+G5 -> 15.6 | I5: =ROUNDUP(H5,0) -> 16 | K5: =IF(J5=0, I5, J5) -> 16 | L5: =K5-E5 -> 3
A6: A005 | B6: Nature's Spring 350ml 24s | C6: 10 | D6: 9 | E6: =IF(C6>D6, C6, D6) -> 10 | F6: 0.2 | G6: =E6*F6 -> 2 | H6: =E6+G6 -> 12 | I6: =ROUNDUP(H6,0) -> 12 | K6: =IF(J6=0, I6, J6) -> 12 | L6: =K6-E6 -> 2
A7: A006 | B7: Harina Tercera | C7: 25 | D7: 24 | E7: =IF(C7>D7, C7, D7) -> 25 | F7: 0.2 | G7: =E7*F7 -> 5 | H7: =E7+G7 -> 30 | I7: =ROUNDUP(H7,0) -> 30 | K7: =IF(J7=0, I7, J7) -> 30 | L7: =K7-E7 -> 5
A8: A007 | B8: Zest-O 10s | C8: 7 | D8: 6 | E8: =IF(C8>D8, C8, D8) -> 7 | F8: 0.2 | G8: =E8*F8 -> 1.4 | H8: =E8+G8 -> 8.4 | I8: =ROUNDUP(H8,0) -> 9 | K8: =IF(J8=0, I8, J8) -> 9 | L8: =K8-E8 -> 2
A9: A008 | B9: Gatorade 350ml 24s | C9: 28 | D9: 29 | E9: =IF(C9>D9, C9, D9) -> 29 | F9: 0.2 | G9: =E9*F9 -> 5.8 | H9: =E9+G9 -> 34.8 | I9: =ROUNDUP(H9,0) -> 35 | K9: =IF(J9=0, I9, J9) -> 35 | L9: =K9-E9 -> 6
A10: A009 | B10: Zonrox 500ml 36s | C10: 22 | D10: 21 | E10: =IF(C10>D10, C10, D10) -> 22 | F10: 0.2 | G10: =E10*F10 -> 4.4 | H10: =E10+G10 -> 26.4 | I10: =ROUNDUP(H10,0) -> 27 | K10: =IF(J10=0, I10, J10) -> 27 | L10: =K10-E10 -> 5
A11: A010 | B11: Mt. Dew 12oz | C11: 12 | D11: 11 | E11: =IF(C11>D11, C11, D11) -> 12 | F11: 0.2 | G11: =E11*F11 -> 2.4 | H11: =E11+G11 -> 14.4 | I11: =ROUNDUP(H11,0) -> 15 | K11: =IF(J11=0, I11, J11) -> 15 | L11: =K11-E11 -> 3
A12: A011 | B12: Pepsi 8oz | C12: 8 | D12: 7 | E12: =IF(C12>D12, C12, D12) -> 8 | F12: 0.2 | G12: =E12*F12 -> 1.6 | H12: =E12+G12 -> 9.6 | I12: =ROUNDUP(H12,0) -> 10 | K12: =IF(J12=0, I12, J12) -> 10 | L12: =K12-E12 -> 2
A13: A012 | B13: Asukal Washed | C13: 40 | D13: 39 | E13: =IF(C13>D13, C13, D13) -> 40 | F13: 0.2 | G13: =E13*F13 -> 8 | H13: =E13+G13 -> 48 | I13: =ROUNDUP(H13,0) -> 48 | K13: =IF(J13=0, I13, J13) -> 48 | L13: =K13-E13 -> 8
... A49: A048 | B49: Chooey choco | C49: 39 | D49: 38 | E49: =IF(C49>D49, C49, D49) -> 39 | F49: 0.2 | G49: =E49*F49 -> 7.8 | H49: =E49+G49 -> 46.8 | I49: =ROUNDUP(H49,0) -> 47 | K49: =IF(J49=0, I49, J49) -> 47 | L49: =K49-E49 -> 8
